BEGIN:VCALENDAR
VERSION:2.0
PRODID:-//The Lunenburg Barnacle - ECPv6.11.2//NONSGML v1.0//EN
CALSCALE:GREGORIAN
METHOD:PUBLISH
X-ORIGINAL-URL:https://www.thebarnacle.ca
X-WR-CALDESC:Events for The Lunenburg Barnacle
REFRESH-INTERVAL;VALUE=DURATION:PT1H
X-Robots-Tag:noindex
X-PUBLISHED-TTL:PT1H
BEGIN:VTIMEZONE
TZID:America/Sao_Paulo
BEGIN:STANDARD
TZOFFSETFROM:-0300
TZOFFSETTO:-0300
TZNAME:-03
DTSTART:20240101T000000
END:STANDARD
END:VTIMEZONE
BEGIN:VTIMEZONE
TZID:UTC
BEGIN:STANDARD
TZOFFSETFROM:+0000
TZOFFSETTO:+0000
TZNAME:UTC
DTSTART:20230101T000000
END:STANDARD
END:VTIMEZONE
BEGIN:VEVENT
DTSTART;TZID=America/Sao_Paulo:20241210T160000
DTEND;TZID=America/Sao_Paulo:20241210T180000
DTSTAMP:20260419T050823
CREATED:20241118T134205Z
LAST-MODIFIED:20241118T134211Z
UID:10000752-1733846400-1733853600@www.thebarnacle.ca
SUMMARY:Arts and Crafts Market
DESCRIPTION:Come support our young entrepreneurs at this arts and crafts market where all vendors are in grades 6-9. Hot drinks will also be sold in support of the Junior Youth Group. Free admission and tables are free for pre-registered youth vendors.
URL:https://www.thebarnacle.ca/event/arts-and-crafts-market/
LOCATION:Trinity Founders Hall\, 101 Edgewater Street\, Mahone Bay
CATEGORIES:Family Friendly,Free,Special Events
END:VEVENT
BEGIN:VEVENT
DTSTART;TZID=UTC:20230930T120000
DTEND;TZID=UTC:20230930T120000
DTSTAMP:20260419T050823
CREATED:20230827T015942Z
LAST-MODIFIED:20230827T015943Z
UID:10000406-1696075200-1696075200@www.thebarnacle.ca
SUMMARY:Pie Baking Contest and Sale
DESCRIPTION:The Mahone Bay Scarecrow Festival is hosting this awesome event! Come watch the pie contest judges (including celebrity judge Sachin Seth) try out delicious local pies. Judging starts at 12pm and the winners are announced at 2pm\, at which point you can buy the pies! There will also be a meal that you can purchase for lunch.
URL:https://www.thebarnacle.ca/event/pie-baking-contest-and-sale/
LOCATION:Trinity Founders Hall\, 101 Edgewater Street\, Mahone Bay
CATEGORIES:Family Friendly,Free,Special Events
END:VEVENT
END:VCALENDAR