BEGIN:VCALENDAR
VERSION:2.0
PRODID:-//The Lunenburg Barnacle - ECPv6.11.2//NONSGML v1.0//EN
CALSCALE:GREGORIAN
METHOD:PUBLISH
X-WR-CALNAME:The Lunenburg Barnacle
X-ORIGINAL-URL:https://www.thebarnacle.ca
X-WR-CALDESC:Events for The Lunenburg Barnacle
REFRESH-INTERVAL;VALUE=DURATION:PT1H
X-Robots-Tag:noindex
X-PUBLISHED-TTL:PT1H
BEGIN:VTIMEZONE
TZID:UTC
BEGIN:STANDARD
TZOFFSETFROM:+0000
TZOFFSETTO:+0000
TZNAME:UTC
DTSTART:20230101T000000
END:STANDARD
END:VTIMEZONE
BEGIN:VEVENT
DTSTART;TZID=UTC:20230318T110000
DTEND;TZID=UTC:20230318T160000
DTSTAMP:20260416T105227
CREATED:20230315T041518Z
LAST-MODIFIED:20230315T041519Z
UID:10000079-1679137200-1679155200@www.thebarnacle.ca
SUMMARY:The Magic of Harry Potter at Bridgewater Mall
DESCRIPTION:Bayview Community School hosts this incredible walk-through Harry Potter exhibit at Bridgewater Mall. Don’t miss out — this is the exhibit’s last year! You can visit during these times:March 15 – 18 11am – 4pmMarch 25 11am –  4pmApril 1 11am – 4pm
URL:https://www.thebarnacle.ca/event/the-magic-of-harry-potter-at-bridgewater-mall/
LOCATION:Bridgewater Mall\, 421 Lahave Street\,\, Bridgewater\, NS
CATEGORIES:Family Friendly,Special Events
END:VEVENT
END:VCALENDAR