BEGIN:VCALENDAR
VERSION:2.0
PRODID:-//The Lunenburg Barnacle - ECPv6.11.2//NONSGML v1.0//EN
CALSCALE:GREGORIAN
METHOD:PUBLISH
X-WR-CALNAME:The Lunenburg Barnacle
X-ORIGINAL-URL:https://www.thebarnacle.ca
X-WR-CALDESC:Events for The Lunenburg Barnacle
REFRESH-INTERVAL;VALUE=DURATION:PT1H
X-Robots-Tag:noindex
X-PUBLISHED-TTL:PT1H
BEGIN:VTIMEZONE
TZID:UTC
BEGIN:STANDARD
TZOFFSETFROM:+0000
TZOFFSETTO:+0000
TZNAME:UTC
DTSTART:20230101T000000
END:STANDARD
END:VTIMEZONE
BEGIN:VEVENT
DTSTART;TZID=UTC:20230325T100000
DTEND;TZID=UTC:20230325T100000
DTSTAMP:20260417T162535
CREATED:20230314T235731Z
LAST-MODIFIED:20230314T235731Z
UID:10000078-1679738400-1679738400@www.thebarnacle.ca
SUMMARY:Sugar Bush Hike
DESCRIPTION:Join the Lunenburg County Hikers on this wintry adventure at Rex Veinot’s Maplewood Maple Syrup and Christmas Tree Farm. The Hikers will trek through hardwood forest and Christmas tree lots. Please note that this is not a sampling event or a tour of the operation.This is a 5K hike. Grippers are recommended.
URL:https://www.thebarnacle.ca/event/sugar-bush-hike/
LOCATION:2819 Barss Corner Rd\, Barss Corner\, NS B0R 1A0
CATEGORIES:Free,Recreation
END:VEVENT
END:VCALENDAR