BEGIN:VCALENDAR
VERSION:2.0
PRODID:-//The Lunenburg Barnacle - ECPv6.11.2//NONSGML v1.0//EN
CALSCALE:GREGORIAN
METHOD:PUBLISH
X-ORIGINAL-URL:https://www.thebarnacle.ca
X-WR-CALDESC:Events for The Lunenburg Barnacle
REFRESH-INTERVAL;VALUE=DURATION:PT1H
X-Robots-Tag:noindex
X-PUBLISHED-TTL:PT1H
BEGIN:VTIMEZONE
TZID:America/Halifax
BEGIN:DAYLIGHT
TZOFFSETFROM:-0400
TZOFFSETTO:-0300
TZNAME:ADT
DTSTART:20250309T060000
END:DAYLIGHT
BEGIN:STANDARD
TZOFFSETFROM:-0300
TZOFFSETTO:-0400
TZNAME:AST
DTSTART:20251102T050000
END:STANDARD
END:VTIMEZONE
BEGIN:VTIMEZONE
TZID:America/Sao_Paulo
BEGIN:STANDARD
TZOFFSETFROM:-0300
TZOFFSETTO:-0300
TZNAME:-03
DTSTART:20240101T000000
END:STANDARD
END:VTIMEZONE
BEGIN:VEVENT
DTSTART;TZID=America/Halifax:20250109T000000
DTEND;TZID=America/Halifax:20250125T235959
DTSTAMP:20260415T181032
CREATED:20241210T183856Z
LAST-MODIFIED:20241210T183857Z
UID:10000788-1736380800-1737849599@www.thebarnacle.ca
SUMMARY:People's Portrait Prize Exhibition
DESCRIPTION:Join us at the Chester Art Centre from January 9 to January 25\, 2025 for the inaugural Nova Scotia People’s Portrait Prize\, an exhibition showcasing the incredible portrait and figurative talent of artists from Lunenburg County. Featuring a diverse range of works in all mediums\, this community-driven event celebrates creativity at all levels. Visitors will have the opportunity to cast their votes for the People’s Choice Award\, helping choose the winner of this exciting prize! Don’t miss the Closing Reception and Awards Gala on January 25\, where prizes—including the People’s Choice Award—will be announced. Free to the public.\n\nArtists who wish to include their work can visit chesterartcentre.ca for submission guidelines. Artists of all ages (including children)\, all abilities and working in all mediums can participate. Artwork is due on January 4th\, 2025.
URL:https://www.thebarnacle.ca/event/peoples-portrait-prize-exhibition/
LOCATION:Chester Art Centre\, 60 Queen Street\, Chester\, NS
CATEGORIES:Arts & Culture,Free,Recreation,Special Events
ATTACH;FMTTYPE=image/png:https://www.thebarnacle.ca/wp-content/uploads/2024/12/Event-Header.png
ORGANIZER;CN="Chester Art Centre":MAILTO:bronwyn@chesterartcentre.ca
END:VEVENT
BEGIN:VEVENT
DTSTART;TZID=America/Sao_Paulo:20241129T193000
DTEND;TZID=America/Sao_Paulo:20241129T213000
DTSTAMP:20260415T181032
CREATED:20241118T134053Z
LAST-MODIFIED:20241118T134054Z
UID:10000760-1732908600-1732915800@www.thebarnacle.ca
SUMMARY:Songs for a Winter's Night
DESCRIPTION:The Acadia University Singers present “Songs for a Winter’s Night” – a concert of seasonal music that explores different perspectives on winter.  As part of the program\, the Singers and special guest cellist Connor Cornick will perform Sarah Quartel’s “Snow Angel\,” a 5-movement cycle for choir\, piano\, and cello that uses the metaphor of winter angels to celebrate the “beauty\, and the strength that a child’s voice can bring to our troubled world” (Quartel).  Other selections include music by Andrew Balfour\, Jennifer Lucy Cook\, Ola Gjeilo\, Katerina Gimon\, Marie Claire Saindon\, and Robbie Smith\, plus a beautiful choral arrangement of Gordon Lightfoot’s classic\, “Song for a Winter’s Night”.   With a mix of new music and seasonal favourites\, this is a program of music that will warm your heart – even if it is cold outside!\n\nDirected by Dr. Michelle Boyd\, the Acadia University Singers are a treble-voice chamber choir\, comprised of both current students and alumni.  Joining them in performance are pianist Cian McCarron as well as several guest musicians from the School of Music.\n\nThis concert begins at 7:30pm in Denton Hall Auditorium.  Admission is by freewill donation at the door.
URL:https://www.thebarnacle.ca/event/songs-for-a-winters-night/
LOCATION:St. John’s Anglican Church\, 64 Townsend St\, Lunenburg\, Nova Scotia\, Canada
CATEGORIES:Arts & Culture,Family Friendly,Special Events
ATTACH;FMTTYPE=image/png:https://www.thebarnacle.ca/wp-content/uploads/2024/11/Choral-music-for-the-season.png
ORGANIZER;CN="Acadia University Singers":MAILTO:michelle.boyd@acadiau.ca
END:VEVENT
END:VCALENDAR