BEGIN:VCALENDAR
VERSION:2.0
PRODID:-//The Lunenburg Barnacle - ECPv6.11.2//NONSGML v1.0//EN
CALSCALE:GREGORIAN
METHOD:PUBLISH
X-WR-CALNAME:The Lunenburg Barnacle
X-ORIGINAL-URL:https://www.thebarnacle.ca
X-WR-CALDESC:Events for The Lunenburg Barnacle
REFRESH-INTERVAL;VALUE=DURATION:PT1H
X-Robots-Tag:noindex
X-PUBLISHED-TTL:PT1H
BEGIN:VTIMEZONE
TZID:America/Halifax
BEGIN:DAYLIGHT
TZOFFSETFROM:-0400
TZOFFSETTO:-0300
TZNAME:ADT
DTSTART:20240310T060000
END:DAYLIGHT
BEGIN:STANDARD
TZOFFSETFROM:-0300
TZOFFSETTO:-0400
TZNAME:AST
DTSTART:20241103T050000
END:STANDARD
END:VTIMEZONE
BEGIN:VTIMEZONE
TZID:America/Sao_Paulo
BEGIN:STANDARD
TZOFFSETFROM:-0300
TZOFFSETTO:-0300
TZNAME:-03
DTSTART:20240101T000000
END:STANDARD
END:VTIMEZONE
BEGIN:VTIMEZONE
TZID:America/Halifax
BEGIN:DAYLIGHT
TZOFFSETFROM:-0400
TZOFFSETTO:-0300
TZNAME:ADT
DTSTART:20250309T060000
END:DAYLIGHT
BEGIN:STANDARD
TZOFFSETFROM:-0300
TZOFFSETTO:-0400
TZNAME:AST
DTSTART:20251102T050000
END:STANDARD
END:VTIMEZONE
BEGIN:VEVENT
DTSTART;TZID=America/Halifax:20241112T103000
DTEND;TZID=America/Halifax:20241112T170000
DTSTAMP:20260414T041609
CREATED:20241113T171803Z
LAST-MODIFIED:20241113T171811Z
UID:10000742-1731407400-1731430800@www.thebarnacle.ca
SUMMARY:Blockshop Books Holiday Open House
DESCRIPTION:This Annual Open House features author signings with Wanda Baxter (She is Hope for Wildlife: the story of wildlife rescuer Hope Swinimer) and Margaret Knickle (My Ancestors Live Here)\, free wrapping\, double points\, treats and good cheer!
URL:https://www.thebarnacle.ca/event/blockshop-books-holiday-open-house/
LOCATION:Block Shop Books\, 125 Montague Street\, Lunenburg\, NS\, B0J 2C0\, Canada
CATEGORIES:Arts & Culture
ATTACH;FMTTYPE=image/jpeg:https://www.thebarnacle.ca/wp-content/uploads/2024/11/HolidayOpenHouse2024Hope.jpg
END:VEVENT
BEGIN:VEVENT
DTSTART;TZID=America/Sao_Paulo:20241210T160000
DTEND;TZID=America/Sao_Paulo:20241210T180000
DTSTAMP:20260414T041609
CREATED:20241118T134205Z
LAST-MODIFIED:20241118T134211Z
UID:10000752-1733846400-1733853600@www.thebarnacle.ca
SUMMARY:Arts and Crafts Market
DESCRIPTION:Come support our young entrepreneurs at this arts and crafts market where all vendors are in grades 6-9. Hot drinks will also be sold in support of the Junior Youth Group. Free admission and tables are free for pre-registered youth vendors.
URL:https://www.thebarnacle.ca/event/arts-and-crafts-market/
LOCATION:Trinity Founders Hall\, 101 Edgewater Street\, Mahone Bay
CATEGORIES:Family Friendly,Free,Special Events
END:VEVENT
BEGIN:VEVENT
DTSTART;TZID=America/Sao_Paulo:20241213T190000
DTEND;TZID=America/Sao_Paulo:20241213T220000
DTSTAMP:20260414T041609
CREATED:20241207T193929Z
LAST-MODIFIED:20241207T193931Z
UID:10000786-1734116400-1734127200@www.thebarnacle.ca
SUMMARY:Cranberry Crush (updated!)
DESCRIPTION:Our event has changed!\n\nNew location\, no ticket needed\, just a fun night out on the town!\n\nHelp us raise money for our grants at our last event of 2024!\n\nWear a cute outfit\, drink some cocktails with friends (there will also be beer\, wine and non-alcoholic options)\, and get yourself into the festive mood at the coolest cafe in town @no9coffeebar after hours.\n\nFriday the 13th (lucky you!)\n7–10pm\nNº9 Coffee Bar\, 135 Montague St\n\nLooking forward to seeing you all 💃 🍸
URL:https://www.thebarnacle.ca/event/cranberry-crush-updated/
LOCATION:No 9 Coffee Bar\, 135 Montague St\, Lunenburg\, NS\, B0J2C0
CATEGORIES:Arts & Culture,Free,Special Events
ATTACH;FMTTYPE=image/jpeg:https://www.thebarnacle.ca/wp-content/uploads/2024/12/LFA_cranberry-crush-IG.jpg
END:VEVENT
BEGIN:VEVENT
DTSTART;TZID=America/Sao_Paulo:20241231T210000
DTEND;TZID=America/Sao_Paulo:20250101T010000
DTSTAMP:20260414T041609
CREATED:20241126T225729Z
LAST-MODIFIED:20241126T225731Z
UID:10000778-1735678800-1735693200@www.thebarnacle.ca
SUMMARY:New Years Eve Dance
DESCRIPTION:New Years Eve Dance at the Riverport Community Centre\n\nFeaturing local DJ – Dr. Scott and the Wheels of Steel\nMusic of the ‘60’s\, ‘70’s and ‘80’s\n\nDate- Tuesday\, December 31st\nTime- 9:00pm to 1:00 am\nTickets – $30 per person and includes hearty soup\, hot appetizers and ‘midnight bubbly.’\nAvailable- Rose Bay Store and Eventbrite.ca\nCASH BAR/ Draws and Prizes \nFor info- call 613-864-5140 or 902-430-2767
URL:https://www.thebarnacle.ca/event/new-years-eve-dance/
LOCATION:Riverport District Community Center\, 79 Lower Lahave Rd\, Riverport\, NS\, B0J 2W0
CATEGORIES:Arts & Culture,Special Events
ATTACH;FMTTYPE=image/jpeg:https://www.thebarnacle.ca/wp-content/uploads/2024/11/IMG_3103.jpeg
END:VEVENT
BEGIN:VEVENT
DTSTART;TZID=America/Halifax:20251129T110000
DTEND;TZID=America/Halifax:20251129T160000
DTSTAMP:20260414T041609
CREATED:20251110T145130Z
LAST-MODIFIED:20251110T145130Z
UID:10000940-1764414000-1764432000@www.thebarnacle.ca
SUMMARY:Holly & Ivy Fair
DESCRIPTION:Experience the magic of the Season at the South Shore Waldorf School’s Annual Holly & Ivy Fair. Festive activities for children include candle dipping\, a magical Gnome Grotto\, a holiday puppet show and more. Families can shop for locally made gifts at our unique craft market and enjoy homemade food and live music at the Holiday Café. Admission is free\, individual activities are ticketed.
URL:https://www.thebarnacle.ca/event/holly-ivy-fair-2/
LOCATION:South Shore Waldorf School\, 64 School Rd\, Blockhouse\, Nova Scotia\, Canada
CATEGORIES:Family Friendly,Special Events
ATTACH;FMTTYPE=image/jpeg:https://www.thebarnacle.ca/wp-content/uploads/2025/11/holly-ivy-2025_poster-letter-local-listing-version.jpg
END:VEVENT
END:VCALENDAR