BEGIN:VCALENDAR
VERSION:2.0
PRODID:-//The Lunenburg Barnacle - ECPv6.11.2//NONSGML v1.0//EN
CALSCALE:GREGORIAN
METHOD:PUBLISH
X-WR-CALNAME:The Lunenburg Barnacle
X-ORIGINAL-URL:https://www.thebarnacle.ca
X-WR-CALDESC:Events for The Lunenburg Barnacle
REFRESH-INTERVAL;VALUE=DURATION:PT1H
X-Robots-Tag:noindex
X-PUBLISHED-TTL:PT1H
BEGIN:VTIMEZONE
TZID:America/Halifax
BEGIN:DAYLIGHT
TZOFFSETFROM:-0400
TZOFFSETTO:-0300
TZNAME:ADT
DTSTART:20250309T060000
END:DAYLIGHT
BEGIN:STANDARD
TZOFFSETFROM:-0300
TZOFFSETTO:-0400
TZNAME:AST
DTSTART:20251102T050000
END:STANDARD
END:VTIMEZONE
BEGIN:VEVENT
DTSTART;TZID=America/Halifax:20250411T170000
DTEND;TZID=America/Halifax:20250413T160000
DTSTAMP:20260412T202630
CREATED:20250323T205609Z
LAST-MODIFIED:20250323T205611Z
UID:10000858-1744390800-1744560000@www.thebarnacle.ca
SUMMARY:South Shore Expo
DESCRIPTION: South Shore Expo 2025  April 11-13th\, 2025 Lunenburg County Lifestyle Centre135 N Park St\, Bridgewater\, NS B4V 9B3 \n\n\n\nThe South Shore Expo is back and bigger than ever! Join us for three days of inspiration and discovery\, featuring everything you need to know about home\, sport\, and travel! \n\n\n\n Home Show– Builders\, contractors\, and realtors– Designers and home décor– Landscaping and outdoor living options \n\n\n\n Sport Show– Outdoor toys\, boats\, bikes\, and more!– Sports teams\, fitness activities\, and wellness options \n\n\n\n Travel Show– Local staycations and travel packages– Exotic destinations and group tours \n\n\n\nEvent Hours:– Friday\, April 11th: 5pm – 9pm– Saturday\, April 12th: 9am – 5pm– Sunday\, April 13th: 12pm – 4pm \n\n\n\nAdmission:– Adult $5.00– Senior $4.00– Student $4.00– Under 12 Free
URL:https://www.thebarnacle.ca/event/south-shore-expo/
LOCATION:Lunenburg County Lifestyle Centre (LCLC)\, 135 N Park Road\, Bridgewater\, NS\, B4V 9B3\, Canada
ATTACH;FMTTYPE=image/jpeg:https://www.thebarnacle.ca/wp-content/uploads/2025/03/483871172_1364250058240234_8630388263734547012_n.jpg
END:VEVENT
BEGIN:VEVENT
DTSTART;TZID=America/Halifax:20250413T174500
DTEND;TZID=America/Halifax:20250413T210000
DTSTAMP:20260412T202630
CREATED:20250323T205922Z
LAST-MODIFIED:20250323T205942Z
UID:10000859-1744566300-1744578000@www.thebarnacle.ca
SUMMARY:Sweet Ride Dinner Theatre
DESCRIPTION:A new play with music by Reid Campbell and Laurel Darnell. \n\n\n\nBluenose Lodge in partnership with Flying Fish Theatre\, is pleased to announce eight performances of Sweet Ride. \n\n\n\nApril 10th\, 11th\, 12th and 13thANDApril 24th\, 25th\, 26th and 27th \n\n\n\nInspired by Ann Barry’s 2017 book\, Sweet Ride is the true story of a “grand adventure” taken in the summer of 1943. Four young women embark on a journey by bicycle from Blockhouse\, Nova Scotia to see their musical hero\, Don Messer. They realize their dream\, sitting in the studio audience during Mr. Messer’s live radio broadcast at the CFCY studio\, Charlottetown\, Prince Edward Island. \n\n\n\nSet during the height of World War Two\, the adventure recounts 400 miles on one speed bicycles\, blistering heat\, torrential rain\, roadside aid provided by soldiers and the rides at the Bill Lynch Carnival. Two actors\, two musicians\, one period bicycle and eight songs tell this charming tale of perseverance in pursuit of a dream. \n\n\n\nDinner & Show Package includesThree Course Meal & Gratuities$115.00 (+tax)/person \n\n\n\nTime: Arrive 5:45pm\, appetizers to be served at 6pm promptly\, show to start 7pm \n\n\n\nTICKETS NOW ON SALE and may be purchased by calling Bluenose Lodge at 902-634-8851 OR 1-800-565-8851
URL:https://www.thebarnacle.ca/event/sweet-ride-dinner-theatre/
LOCATION:Bluenose Lodge\, 10 Falkland Street\, Lunenburg
ATTACH;FMTTYPE=image/jpeg:https://www.thebarnacle.ca/wp-content/uploads/2025/03/483645537_534382846344418_3487130145940601003_n.jpg
END:VEVENT
END:VCALENDAR